BEGIN:VCALENDAR
VERSION:2.0
PRODID:-//Tukios.com/
BEGIN:VEVENT
UID:36f990d2-7ee5-424b-8c1c-b696a22c6253@www.shaw-davis.com
DTSTAMP:20260423T083847Z
DTSTART:20260423T200000Z
DTEND:20260423T210000Z
SUMMARY:Visitation
DESCRIPTION:
URL:https://www.shaw-davis.com/obituaries/carolene-adams
LOCATION: 4341 North High Street  Columbus OH 43214
GEO:40.0505008;-83.0204872
END:VEVENT
END:VCALENDAR