BEGIN:VCALENDAR
VERSION:2.0
PRODID:-//Tukios.com/
BEGIN:VEVENT
UID:92eed08a-9253-4fc6-b963-cb56e26e5925@www.shaw-davis.com
DTSTAMP:20260421T193751Z
DTSTART:20260423T210000Z
DTEND:20260423T220000Z
SUMMARY:Funeral Service
DESCRIPTION:
URL:https://www.shaw-davis.com/obituaries/carolene-adams
LOCATION: 4341 North High Street  Columbus OH 43214
GEO:40.0505008;-83.0204872
END:VEVENT
END:VCALENDAR