BEGIN:VCALENDAR
VERSION:2.0
PRODID:-//Tukios.com/
BEGIN:VEVENT
UID:73c5f101-353d-4c51-84cc-bc48227c15d2@www.shaw-davis.com
DTSTAMP:20260425T004539Z
DTSTART:20260502T160000Z
DTEND:20260502T180000Z
SUMMARY:Memorial Service
DESCRIPTION:
URL:https://www.shaw-davis.com/obituaries/pamela-dickson
LOCATION: 34 West 2nd Avenue  Columbus OH 43201
GEO:39.9820243;-83.0054606
END:VEVENT
END:VCALENDAR