BEGIN:VCALENDAR
VERSION:2.0
PRODID:-//Tukios.com/
BEGIN:VEVENT
UID:5215ef0c-8e3b-4da3-b2c2-ee73cd05f379@www.shaw-davis.com
DTSTAMP:20260421T200127Z
DTSTART:20260426T170000Z
DTEND:20260426T190000Z
SUMMARY:Visitation
DESCRIPTION:
URL:https://www.shaw-davis.com/obituaries/stephen-giles
LOCATION: 34 West 2nd Avenue  Columbus OH 43201
GEO:39.9820243;-83.0054606
END:VEVENT
END:VCALENDAR