BEGIN:VCALENDAR
VERSION:2.0
PRODID:-//Tukios.com/
BEGIN:VEVENT
UID:343031ec-005a-4efe-b362-80e8207a6813@www.shaw-davis.com
DTSTAMP:20260421T194053Z
DTSTART:20260508T200000Z
DTEND:20260508T220000Z
SUMMARY:Memorial Service
DESCRIPTION:
URL:https://www.shaw-davis.com/obituaries/steven-hairston
LOCATION: 4341 North High Street  Columbus OH 43214
GEO:40.0505008;-83.0204872
END:VEVENT
END:VCALENDAR