BEGIN:VCALENDAR
VERSION:2.0
PRODID:-//Tukios.com/
BEGIN:VEVENT
UID:f5e07054-4f21-4dc1-b049-11849ea65332@www.shaw-davis.com
DTSTAMP:20260425T004238Z
DTSTART:20260501T133000Z
DTEND:20260501T143000Z
SUMMARY:Visitation
DESCRIPTION:
URL:https://www.shaw-davis.com/obituaries/terry-mathews
LOCATION: 4341 North High Street  Columbus OH 43214
GEO:40.0505008;-83.0204872
END:VEVENT
END:VCALENDAR