BEGIN:VCALENDAR
VERSION:2.0
PRODID:-//Tukios.com/
BEGIN:VEVENT
UID:8e5f881a-2bf9-40b6-acf6-8d66278e16a2@www.shaw-davis.com
DTSTAMP:20260425T003939Z
DTSTART:20260501T143000Z
DTEND:20260501T153000Z
SUMMARY:Funeral Service
DESCRIPTION:
URL:https://www.shaw-davis.com/obituaries/terry-mathews
LOCATION: 4341 North High Street  Columbus OH 43214
GEO:40.0505008;-83.0204872
END:VEVENT
END:VCALENDAR