BEGIN:VCALENDAR
VERSION:2.0
PRODID:-//Tukios.com/
BEGIN:VEVENT
UID:e4ddb845-ab12-4add-9cc5-6cb976690c40@www.shaw-davis.com
DTSTAMP:20260425T004249Z
DTSTART:20260501T160000Z
DTEND:20260501T170000Z
SUMMARY:Graveside Service
DESCRIPTION:
URL:https://www.shaw-davis.com/obituaries/terry-mathews
LOCATION: 3349 Olentangy River Rd  Columbus OH 43202
GEO:40.0273574;-83.0314384
END:VEVENT
END:VCALENDAR