BEGIN:VCALENDAR
VERSION:2.0
PRODID:-//Tukios.com/
BEGIN:VEVENT
UID:0f0aa71b-11cb-44d3-86ee-52c2ccd6f098@www.shaw-davis.com
DTSTAMP:20260421T160610Z
DTSTART:20260501T210000Z
DTEND:20260501T230000Z
SUMMARY:Visitation
DESCRIPTION:
URL:https://www.shaw-davis.com/obituaries/tina-roberts
LOCATION: 4341 North High Street  Columbus OH 43214
GEO:40.0505008;-83.0204872
END:VEVENT
END:VCALENDAR